BEGIN:VCALENDAR
VERSION:2.0
PRODID:-//Fundacja i organizacja pomocy dzieciom, kobietom, fundacje pożytku publicznego dla dzieci w polsce OPP Eurohelp - ECPv6.15.20//NONSGML v1.0//EN
CALSCALE:GREGORIAN
METHOD:PUBLISH
X-ORIGINAL-URL:https://eurohelp.com.pl
X-WR-CALDESC:Wydarzenia dla Fundacja i organizacja pomocy dzieciom, kobietom, fundacje pożytku publicznego dla dzieci w polsce OPP Eurohelp
REFRESH-INTERVAL;VALUE=DURATION:PT1H
X-Robots-Tag:noindex
X-PUBLISHED-TTL:PT1H
BEGIN:VTIMEZONE
TZID:Europe/Warsaw
BEGIN:DAYLIGHT
TZOFFSETFROM:+0100
TZOFFSETTO:+0200
TZNAME:CEST
DTSTART:20250330T010000
END:DAYLIGHT
BEGIN:STANDARD
TZOFFSETFROM:+0200
TZOFFSETTO:+0100
TZNAME:CET
DTSTART:20251026T010000
END:STANDARD
BEGIN:DAYLIGHT
TZOFFSETFROM:+0100
TZOFFSETTO:+0200
TZNAME:CEST
DTSTART:20260329T010000
END:DAYLIGHT
BEGIN:STANDARD
TZOFFSETFROM:+0200
TZOFFSETTO:+0100
TZNAME:CET
DTSTART:20261025T010000
END:STANDARD
BEGIN:DAYLIGHT
TZOFFSETFROM:+0100
TZOFFSETTO:+0200
TZNAME:CEST
DTSTART:20270328T010000
END:DAYLIGHT
BEGIN:STANDARD
TZOFFSETFROM:+0200
TZOFFSETTO:+0100
TZNAME:CET
DTSTART:20271031T010000
END:STANDARD
END:VTIMEZONE
BEGIN:VEVENT
DTSTART;TZID=Europe/Warsaw:20260213T183000
DTEND;TZID=Europe/Warsaw:20260213T203000
DTSTAMP:20260422T233100
CREATED:20260219T134222Z
LAST-MODIFIED:20260219T151143Z
UID:6497-1771007400-1771014600@eurohelp.com.pl
SUMMARY:Spotkanie Walentynkowe 2026
DESCRIPTION:13 lutego o godzinie 18:00 fundacja zorganizowała spotkanie walentynkowe. \nTo był wieczór pełen ciepła i romantycznej atmosfery\, wspólnej zabawy\, inspirujących treści\, dużo refleksji oraz praktycznych wskazówek\, które pomogą Wam budować relację bliskości. \nPoruszyliśmy tematy o tym: \n\nJą budować przyjaźń\nJak napełniać zbiornik emocjonalny partnera\nCo jest kluczem do silnego zdrowego szczęśliwego małżeństw\n\nDzięki zaangażowaniu 20 wolontariuszy w wydarzeniu wzięło udział 30 par.
URL:https://eurohelp.com.pl/wydarzenie/spotkanie-walentynkowe-2026/
LOCATION:Śląskie
CATEGORIES:Świąteczne
ATTACH;FMTTYPE=image/jpeg:https://eurohelp.com.pl/wp-content/uploads/2026/02/walentynki-2026.jpg
END:VEVENT
END:VCALENDAR